BEGIN:VCALENDAR
VERSION:2.0
PRODID:-//ANZHS Australia &amp; New Zealand Headache Society - ECPv6.15.18//NONSGML v1.0//EN
CALSCALE:GREGORIAN
METHOD:PUBLISH
X-WR-CALNAME:ANZHS Australia &amp; New Zealand Headache Society
X-ORIGINAL-URL:https://anzheadachesociety.org
X-WR-CALDESC:Events for ANZHS Australia &amp; New Zealand Headache Society
REFRESH-INTERVAL;VALUE=DURATION:PT1H
X-Robots-Tag:noindex
X-PUBLISHED-TTL:PT1H
BEGIN:VTIMEZONE
TZID:Australia/Melbourne
BEGIN:STANDARD
TZOFFSETFROM:+1100
TZOFFSETTO:+1000
TZNAME:AEST
DTSTART:20250405T160000
END:STANDARD
BEGIN:DAYLIGHT
TZOFFSETFROM:+1000
TZOFFSETTO:+1100
TZNAME:AEDT
DTSTART:20251004T160000
END:DAYLIGHT
BEGIN:STANDARD
TZOFFSETFROM:+1100
TZOFFSETTO:+1000
TZNAME:AEST
DTSTART:20260404T160000
END:STANDARD
BEGIN:DAYLIGHT
TZOFFSETFROM:+1000
TZOFFSETTO:+1100
TZNAME:AEDT
DTSTART:20261003T160000
END:DAYLIGHT
BEGIN:STANDARD
TZOFFSETFROM:+1100
TZOFFSETTO:+1000
TZNAME:AEST
DTSTART:20270403T160000
END:STANDARD
BEGIN:DAYLIGHT
TZOFFSETFROM:+1000
TZOFFSETTO:+1100
TZNAME:AEDT
DTSTART:20271002T160000
END:DAYLIGHT
END:VTIMEZONE
BEGIN:VEVENT
DTSTART;TZID=Australia/Melbourne:20260808T080000
DTEND;TZID=Australia/Melbourne:20260809T170000
DTSTAMP:20260426T054942
CREATED:20251104T002527Z
LAST-MODIFIED:20260319T102308Z
UID:14645-1786176000-1786294800@anzheadachesociety.org
SUMMARY:ANZHS Annual Scientific Meeting 2026
DESCRIPTION:Save the Date 8th and 9th August 2026 \nMelbourne – details coming soon \n 
URL:https://anzheadachesociety.org/event/anzhs-annual-scientific-meeting-2026/
ATTACH;FMTTYPE=image/jpeg:https://anzheadachesociety.org/wp-content/uploads/2026/03/ANZHS2026_Save_the_date_Keynote-v2.jpg
ORGANIZER;CN="ANZHS":MAILTO:anzhsociety@gmail.com
END:VEVENT
END:VCALENDAR